BEGIN:VCALENDAR
VERSION:2.0
PRODID:-//hacksw/handcal//NONSGML v1.0//EN
CALSCALE:GREGORIAN
BEGIN:VEVENT
LOCATION:
SUMMARY:Quel rôle pour la collectivité dans un projet de production locale d&rsquo\;énergie renouvelable ?
DESCRIPTION:Quel rôle pour la collectivité dans un projet de production locale d&rsquo\;énergie renouvelable ?
DTSTART:20210401T120000
DTEND:20210425T133000
URL;VALUE=URI:https://energy-cities.eu/fr/evenement/quel-role-pour-la-collectivite-dans-un-projet-de-production-locale-denergie-renouvelable/
DTSTAMP:now
UID:6597761b0bcd0
END:VEVENT
END:VCALENDAR