BEGIN:VCALENDAR
VERSION:2.0
PRODID:-//hacksw/handcal//NONSGML v1.0//EN
CALSCALE:GREGORIAN
BEGIN:VEVENT
LOCATION:
SUMMARY:Quelles solutions durables et dignes pour lutter  contre la précarité alimentaire dans nos territoires ?
DESCRIPTION:Quelles solutions durables et dignes pour lutter  contre la précarité alimentaire dans nos territoires ?
DTSTART:20220701T100000
DTEND:20220701T120000
URL;VALUE=URI:https://energy-cities.eu/fr/evenement/quelles-solutions-durables-et-dignes-pour-lutter-contre-la-precarite-alimentaire-dans-nos-territoires/
DTSTAMP:now
UID:65976fd266eac
END:VEVENT
END:VCALENDAR