BEGIN:VCALENDAR
VERSION:2.0
PRODID:-//hacksw/handcal//NONSGML v1.0//EN
CALSCALE:GREGORIAN
BEGIN:VEVENT
LOCATION:
SUMMARY:Quels leviers pour booster la rénovation énergétique en France et en Europe ?
DESCRIPTION:Quels leviers pour booster la rénovation énergétique en France et en Europe ?
DTSTART:20200317T103000
DTEND:20200317T120000
URL;VALUE=URI:https://energy-cities.eu/fr/evenement/quels-leviers-pour-booster-la-renovation-energetique-en-france-et-en-europe/
DTSTAMP:now
UID:65976d489d2cf
END:VEVENT
END:VCALENDAR