BEGIN:VCALENDAR
VERSION:2.0
PRODID:-//hacksw/handcal//NONSGML v1.0//EN
CALSCALE:GREGORIAN
BEGIN:VEVENT
LOCATION:
SUMMARY:Régions et transition écologique : regards croisés sur les enjeux et perspectives
DESCRIPTION:Régions et transition écologique : regards croisés sur les enjeux et perspectives
DTSTART:20200917T120000
DTEND:20200917T131500
URL;VALUE=URI:https://energy-cities.eu/fr/evenement/regions-et-transition-ecologique-regards-croises-sur-les-enjeux-et-perspectives/
DTSTAMP:now
UID:65976d3fd503e
END:VEVENT
END:VCALENDAR