BEGIN:VCALENDAR
VERSION:2.0
PRODID:-//hacksw/handcal//NONSGML v1.0//EN
CALSCALE:GREGORIAN
BEGIN:VEVENT
LOCATION:
SUMMARY:Rénovation énergétique des bâtiments : une opportunité socio-économique et climatique à saisir !
DESCRIPTION:Rénovation énergétique des bâtiments : une opportunité socio-économique et climatique à saisir !
DTSTART:20200919T110000
DTEND:20200919T121500
URL;VALUE=URI:https://energy-cities.eu/fr/evenement/renovation-energetique-des-batiments-une-opportunite-socio-economique-et-climatique-a-saisir/
DTSTAMP:now
UID:65976bb170c93
END:VEVENT
END:VCALENDAR