BEGIN:VCALENDAR
VERSION:2.0
PRODID:-//hacksw/handcal//NONSGML v1.0//EN
CALSCALE:GREGORIAN
BEGIN:VEVENT
LOCATION:
SUMMARY:Rénovation énergétique des bâtiments publics :  Comment rattraper le retard ?
DESCRIPTION:Rénovation énergétique des bâtiments publics :  Comment rattraper le retard ?
DTSTART:20210511T090000
DTEND:20210511T120000
URL;VALUE=URI:https://energy-cities.eu/fr/evenement/renovation-energetique-des-batiments-publics-comment-rattraper-le-retard-2/
DTSTAMP:now
UID:65977790063eb
END:VEVENT
END:VCALENDAR