BEGIN:VCALENDAR
VERSION:2.0
PRODID:-//hacksw/handcal//NONSGML v1.0//EN
CALSCALE:GREGORIAN
BEGIN:VEVENT
LOCATION:
SUMMARY:REScoop.eu&#8217\;s Annual General Meeting
DESCRIPTION:REScoop.eu&#8217\;s Annual General Meeting
DTSTART:20210422T000000
DTEND:20210424T000000
URL;VALUE=URI:https://energy-cities.eu/event/rescoop-eus-annual-general-meeting/
DTSTAMP:now
UID:659776eb2abce
END:VEVENT
END:VCALENDAR