BEGIN:VCALENDAR
VERSION:2.0
PRODID:-//hacksw/handcal//NONSGML v1.0//EN
CALSCALE:GREGORIAN
BEGIN:VEVENT
LOCATION:
SUMMARY:Ramping-up community energy: Discussion with trailblazers
DESCRIPTION:Ramping-up community energy: Discussion with trailblazers
DTSTART:20220630T100000
DTEND:20220630T113000
URL;VALUE=URI:https://energy-cities.eu/event/ramping-up-community-energy-discussion-with-trailblazers/
DTSTAMP:now
UID:6597667a44ccf
END:VEVENT
END:VCALENDAR