BEGIN:VCALENDAR
VERSION:2.0
PRODID:-//hacksw/handcal//NONSGML v1.0//EN
CALSCALE:GREGORIAN
BEGIN:VEVENT
LOCATION:
SUMMARY:Recovery and Resilience Plans: Game changer or missed opportunity?
DESCRIPTION:Recovery and Resilience Plans: Game changer or missed opportunity?
DTSTART:20210531T140000
DTEND:20210531T150000
URL;VALUE=URI:https://energy-cities.eu/event/recovery-and-resilience-plans-game-changer-or-missed-opportunity/
DTSTAMP:now
UID:65976e06e437b
END:VEVENT
END:VCALENDAR