BEGIN:VCALENDAR
VERSION:2.0
PRODID:-//hacksw/handcal//NONSGML v1.0//EN
CALSCALE:GREGORIAN
BEGIN:VEVENT
LOCATION:
SUMMARY:Recovery funds and financing schemes\; from public to private pathways for transition
DESCRIPTION:Recovery funds and financing schemes\; from public to private pathways for transition
DTSTART:20210608T100000
DTEND:20210608T120000
URL;VALUE=URI:https://energy-cities.eu/event/recovery-funds-and-financing-schemes-from-public-to-private-pathways-for-transition/
DTSTAMP:now
UID:659767202e354
END:VEVENT
END:VCALENDAR