BEGIN:VCALENDAR
VERSION:2.0
PRODID:-//hacksw/handcal//NONSGML v1.0//EN
CALSCALE:GREGORIAN
BEGIN:VEVENT
LOCATION:
SUMMARY:Regards croisés sur les plans canicules dans les villes françaises et allemandes 
DESCRIPTION:Regards croisés sur les plans canicules dans les villes françaises et allemandes 
DTSTART:20231016T140000
DTEND:20231016T153000
URL;VALUE=URI:https://energy-cities.eu/fr/evenement/regards-croises-sur-les-plans-canicules-dans-les-villes-francaises-et-allemandes/
DTSTAMP:now
UID:65976b7f3cfec
END:VEVENT
END:VCALENDAR