BEGIN:VCALENDAR
VERSION:2.0
PRODID:-//hacksw/handcal//NONSGML v1.0//EN
CALSCALE:GREGORIAN
BEGIN:VEVENT
LOCATION:
SUMMARY:Regenerating Cities for the Post-Pandemic: What counts for transformative impact?
DESCRIPTION:Regenerating Cities for the Post-Pandemic: What counts for transformative impact?
DTSTART:20220302T140000
DTEND:20220302T170000
URL;VALUE=URI:https://energy-cities.eu/event/regenerating-cities-for-the-post-pandemic-what-counts-for-transformative-impact/
DTSTAMP:now
UID:659766e1bf194
END:VEVENT
END:VCALENDAR