BEGIN:VCALENDAR
VERSION:2.0
PRODID:-//hacksw/handcal//NONSGML v1.0//EN
CALSCALE:GREGORIAN
BEGIN:VEVENT
LOCATION:
SUMMARY:Rejoignez-nous pour le Terra Madre Salone del Gusto 2022 !
DESCRIPTION:Rejoignez-nous pour le Terra Madre Salone del Gusto 2022 !
DTSTART:20220922T000000
DTEND:20220926T000000
URL;VALUE=URI:https://energy-cities.eu/fr/evenement/join-us-for-terra-madre-salone-del-gusto-2022/
DTSTAMP:now
UID:65976ea96aefb
END:VEVENT
END:VCALENDAR