BEGIN:VCALENDAR
VERSION:2.0
PRODID:-//hacksw/handcal//NONSGML v1.0//EN
CALSCALE:GREGORIAN
BEGIN:VEVENT
LOCATION:
SUMMARY:Renewable heat in Odense
DESCRIPTION:Renewable heat in Odense
DTSTART:20191112T140000
DTEND:20191112T150000
URL;VALUE=URI:https://energy-cities.eu/event/renewable-heat-in-odense/
DTSTAMP:now
UID:659770fa409e0
END:VEVENT
END:VCALENDAR