BEGIN:VCALENDAR
VERSION:2.0
PRODID:-//hacksw/handcal//NONSGML v1.0//EN
CALSCALE:GREGORIAN
BEGIN:VEVENT
LOCATION:
SUMMARY:Renewables PPAs &#8211\; How can municipalities make the most of it?
DESCRIPTION:Renewables PPAs &#8211\; How can municipalities make the most of it?
DTSTART:20231005T143000
DTEND:20230905T153000
URL;VALUE=URI:https://energy-cities.eu/event/renewables-ppas-how-can-municipalities-make-the-most-of-it/
DTSTAMP:now
UID:65976a8415d00
END:VEVENT
END:VCALENDAR