BEGIN:VCALENDAR
VERSION:2.0
PRODID:-//hacksw/handcal//NONSGML v1.0//EN
CALSCALE:GREGORIAN
BEGIN:VEVENT
LOCATION:
SUMMARY:Renewables in Cities and Citizen Participation
DESCRIPTION:Renewables in Cities and Citizen Participation
DTSTART:20200218T150000
DTEND:20200218T160000
URL;VALUE=URI:https://energy-cities.eu/event/cities-and-citizens-participation/
DTSTAMP:now
UID:659769fb95ff1
END:VEVENT
END:VCALENDAR