BEGIN:VCALENDAR
VERSION:2.0
PRODID:-//hacksw/handcal//NONSGML v1.0//EN
CALSCALE:GREGORIAN
BEGIN:VEVENT
LOCATION:
SUMMARY:Renovate Europe Day 2020: #Renovate2Recover
DESCRIPTION:Renovate Europe Day 2020: #Renovate2Recover
DTSTART:20201027T093000
DTEND:20201027T110000
URL;VALUE=URI:https://energy-cities.eu/event/renovate-europe-day-2020-renovate2recover/
DTSTAMP:now
UID:6597641a9b1bc
END:VEVENT
END:VCALENDAR