BEGIN:VCALENDAR
VERSION:2.0
PRODID:-//hacksw/handcal//NONSGML v1.0//EN
CALSCALE:GREGORIAN
BEGIN:VEVENT
LOCATION:
SUMMARY:Renovate Europe Day 2021: Next Decade of Action on Renovation
DESCRIPTION:Renovate Europe Day 2021: Next Decade of Action on Renovation
DTSTART:20211013T170000
DTEND:20211013T170000
URL;VALUE=URI:https://energy-cities.eu/event/renovate-europe-day-2021-next-decade-of-action-on-renovation/
DTSTAMP:now
UID:65976bef7890e
END:VEVENT
END:VCALENDAR