BEGIN:VCALENDAR
VERSION:2.0
PRODID:-//hacksw/handcal//NONSGML v1.0//EN
CALSCALE:GREGORIAN
BEGIN:VEVENT
LOCATION:
SUMMARY:Reshaping Mediterranean cities: young changemakers for the food transition
DESCRIPTION:Reshaping Mediterranean cities: young changemakers for the food transition
DTSTART:20220708T103000
DTEND:20220708T130000
URL;VALUE=URI:https://energy-cities.eu/event/reshaping-mediterranean-cities-young-changemakers-for-the-food-transition/
DTSTAMP:now
UID:6597636939a64
END:VEVENT
END:VCALENDAR