BEGIN:VCALENDAR
VERSION:2.0
PRODID:-//hacksw/handcal//NONSGML v1.0//EN
CALSCALE:GREGORIAN
BEGIN:VEVENT
LOCATION:
SUMMARY:Retrofits\, renewable energy &#038\; energy communities in the Balkans
DESCRIPTION:Retrofits\, renewable energy &#038\; energy communities in the Balkans
DTSTART:20210420T100000
DTEND:20210421T120000
URL;VALUE=URI:https://energy-cities.eu/event/retrofits-renewable-energy-energy-communities-in-the-balkans/
DTSTAMP:now
UID:659771f600822
END:VEVENT
END:VCALENDAR