BEGIN:VCALENDAR
VERSION:2.0
PRODID:-//hacksw/handcal//NONSGML v1.0//EN
CALSCALE:GREGORIAN
BEGIN:VEVENT
LOCATION:
SUMMARY:Reversing Car Dependency
DESCRIPTION:Reversing Car Dependency
DTSTART:20210316T160000
DTEND:20210325T173000
URL;VALUE=URI:https://energy-cities.eu/event/reversing-car-dependency/
DTSTAMP:now
UID:6597660b55c81
END:VEVENT
END:VCALENDAR