BEGIN:VCALENDAR
VERSION:2.0
PRODID:-//hacksw/handcal//NONSGML v1.0//EN
CALSCALE:GREGORIAN
BEGIN:VEVENT
LOCATION:
SUMMARY:Scaling up energy communities in Bulgaria
DESCRIPTION:Scaling up energy communities in Bulgaria
DTSTART:20211020T100000
DTEND:20211020T000000
URL;VALUE=URI:https://energy-cities.eu/event/scaling-up-energy-communities-in-bulgaria/
DTSTAMP:now
UID:6597769262360
END:VEVENT
END:VCALENDAR