BEGIN:VCALENDAR
VERSION:2.0
PRODID:-//hacksw/handcal//NONSGML v1.0//EN
CALSCALE:GREGORIAN
BEGIN:VEVENT
LOCATION:
SUMMARY:Semaine franco-allemande de la transition énergétique
DESCRIPTION:Semaine franco-allemande de la transition énergétique
DTSTART:20210131T000000
DTEND:20210131T000000
URL;VALUE=URI:https://energy-cities.eu/fr/evenement/semaine-franco-allemande-de-la-transition-energetique/
DTSTAMP:now
UID:659771e5dd1ff
END:VEVENT
END:VCALENDAR