BEGIN:VCALENDAR
VERSION:2.0
PRODID:-//hacksw/handcal//NONSGML v1.0//EN
CALSCALE:GREGORIAN
BEGIN:VEVENT
LOCATION:
SUMMARY:Sensibilisation aux enjeux climatiques &#8211\; Comment emmener les citoyen·ne·s à la rencontre de leur territoire ? »
DESCRIPTION:Sensibilisation aux enjeux climatiques &#8211\; Comment emmener les citoyen·ne·s à la rencontre de leur territoire ? »
DTSTART:20210930T100000
DTEND:20210930T113000
URL;VALUE=URI:https://energy-cities.eu/fr/evenement/sensibilisation-aux-enjeux-climatiques-comment-emmener-les-citoyen·ne·s-a-la-rencontre-de-leur-territoire/
DTSTAMP:now
UID:65976e48aec34
END:VEVENT
END:VCALENDAR