BEGIN:VCALENDAR
VERSION:2.0
PRODID:-//hacksw/handcal//NONSGML v1.0//EN
CALSCALE:GREGORIAN
BEGIN:VEVENT
LOCATION:
SUMMARY:Shaping local governance to achieve climate neutrality
DESCRIPTION:Shaping local governance to achieve climate neutrality
DTSTART:20220620T143000
DTEND:20220620T154500
URL;VALUE=URI:https://energy-cities.eu/event/shaping-local-governance-to-achieve-climate-neutrality/
DTSTAMP:now
UID:65976dce44e8b
END:VEVENT
END:VCALENDAR