BEGIN:VCALENDAR
VERSION:2.0
PRODID:-//hacksw/handcal//NONSGML v1.0//EN
CALSCALE:GREGORIAN
BEGIN:VEVENT
LOCATION:
SUMMARY:Shared micro depots for urban pickup and delivery
DESCRIPTION:Shared micro depots for urban pickup and delivery
DTSTART:20201202T100000
DTEND:20201202T120000
URL;VALUE=URI:https://energy-cities.eu/event/shared-micro-depots-for-urban-pickup-and-delivery/
DTSTAMP:now
UID:6597702c19ba4
END:VEVENT
END:VCALENDAR