BEGIN:VCALENDAR
VERSION:2.0
PRODID:-//hacksw/handcal//NONSGML v1.0//EN
CALSCALE:GREGORIAN
BEGIN:VEVENT
LOCATION:
SUMMARY:Sharing Cities’ Smart City Solutions
DESCRIPTION:Sharing Cities’ Smart City Solutions
DTSTART:20201117T110000
DTEND:20201117T123000
URL;VALUE=URI:https://energy-cities.eu/event/sharing-cities-smart-city-solutions-3/
DTSTAMP:now
UID:659771c6307ae
END:VEVENT
END:VCALENDAR