BEGIN:VCALENDAR
VERSION:2.0
PRODID:-//hacksw/handcal//NONSGML v1.0//EN
CALSCALE:GREGORIAN
BEGIN:VEVENT
LOCATION:
SUMMARY:Sick of energy poverty! How to create programs that improve health and eliminate energy poverty
DESCRIPTION:Sick of energy poverty! How to create programs that improve health and eliminate energy poverty
DTSTART:20220330T110000
DTEND:20220330T123000
URL;VALUE=URI:https://energy-cities.eu/event/sick-of-energy-poverty-how-to-create-programs-that-improve-health-and-eliminate-energy-poverty/
DTSTAMP:now
UID:65976e3086eb6
END:VEVENT
END:VCALENDAR