BEGIN:VCALENDAR
VERSION:2.0
PRODID:-//hacksw/handcal//NONSGML v1.0//EN
CALSCALE:GREGORIAN
BEGIN:VEVENT
LOCATION:
SUMMARY:Skills through the Multi-Annual Financial Framework
DESCRIPTION:Skills through the Multi-Annual Financial Framework
DTSTART:20220427T100000
DTEND:20220427T113000
URL;VALUE=URI:https://energy-cities.eu/event/skills-through-the-multi-annual-financial-framework/
DTSTAMP:now
UID:65976687f1fbb
END:VEVENT
END:VCALENDAR