BEGIN:VCALENDAR
VERSION:2.0
PRODID:-//hacksw/handcal//NONSGML v1.0//EN
CALSCALE:GREGORIAN
BEGIN:VEVENT
LOCATION:
SUMMARY:Smart Cities: REPLICATE Final conference
DESCRIPTION:Smart Cities: REPLICATE Final conference
DTSTART:20210326T090000
DTEND:20210326T133000
URL;VALUE=URI:https://energy-cities.eu/event/smart-cities-replicate-final-conference/
DTSTAMP:now
UID:659777af35139
END:VEVENT
END:VCALENDAR