BEGIN:VCALENDAR
VERSION:2.0
PRODID:-//hacksw/handcal//NONSGML v1.0//EN
CALSCALE:GREGORIAN
BEGIN:VEVENT
LOCATION:
SUMMARY:Smart Energy Services &#8211\; EU Project Clustering event #1
DESCRIPTION:Smart Energy Services &#8211\; EU Project Clustering event #1
DTSTART:20230425T090000
DTEND:20230425T120000
URL;VALUE=URI:https://energy-cities.eu/event/smart-energy-services-eu-project-clustering-event-1/
DTSTAMP:now
UID:6597708d548da
END:VEVENT
END:VCALENDAR