BEGIN:VCALENDAR
VERSION:2.0
PRODID:-//hacksw/handcal//NONSGML v1.0//EN
CALSCALE:GREGORIAN
BEGIN:VEVENT
LOCATION:
SUMMARY:Smart Energy Services – EU Project Clustering event #2
DESCRIPTION:Smart Energy Services – EU Project Clustering event #2
DTSTART:20230517T090000
DTEND:20230517T120000
URL;VALUE=URI:https://energy-cities.eu/event/smart-energy-services-eu-project-clustering-event-2/
DTSTAMP:now
UID:659765ffa7dab
END:VEVENT
END:VCALENDAR