BEGIN:VCALENDAR
VERSION:2.0
PRODID:-//hacksw/handcal//NONSGML v1.0//EN
CALSCALE:GREGORIAN
BEGIN:VEVENT
LOCATION:
SUMMARY:Smart cities\, you’ve got a friend in electric cars – How to unleash the potential of smart charging through public procurement
DESCRIPTION:Smart cities\, you’ve got a friend in electric cars – How to unleash the potential of smart charging through public procurement
DTSTART:20221215T103000
DTEND:20221215T113000
URL;VALUE=URI:https://energy-cities.eu/event/smart-cities-youve-got-a-friend-in-electric-cars-how-to-unleash-the-potential-of-smart-charging-through-public-procurement/
DTSTAMP:now
UID:65976868b4f9d
END:VEVENT
END:VCALENDAR