BEGIN:VCALENDAR
VERSION:2.0
PRODID:-//hacksw/handcal//NONSGML v1.0//EN
CALSCALE:GREGORIAN
BEGIN:VEVENT
LOCATION:
SUMMARY:SmartCity expo world congress
DESCRIPTION:SmartCity expo world congress
DTSTART:20201117T000000
DTEND:20201118T000000
URL;VALUE=URI:https://energy-cities.eu/event/smartcity-expo-world-congress/
DTSTAMP:now
UID:65976a36a3f15
END:VEVENT
END:VCALENDAR