BEGIN:VCALENDAR
VERSION:2.0
PRODID:-//hacksw/handcal//NONSGML v1.0//EN
CALSCALE:GREGORIAN
BEGIN:VEVENT
LOCATION:
SUMMARY:Solar and digitalisation: Redefining Smart Cities
DESCRIPTION:Solar and digitalisation: Redefining Smart Cities
DTSTART:20231010T143000
DTEND:20231010T160000
URL;VALUE=URI:https://energy-cities.eu/event/solar-and-digitalisation-redefining-smart-cities/
DTSTAMP:now
UID:6597689f1f9d2
END:VEVENT
END:VCALENDAR