BEGIN:VCALENDAR
VERSION:2.0
PRODID:-//hacksw/handcal//NONSGML v1.0//EN
CALSCALE:GREGORIAN
BEGIN:VEVENT
LOCATION:
SUMMARY:Solar heating: how cities can decarbonise their district heating systems? &#8211\; Session #01
DESCRIPTION:Solar heating: how cities can decarbonise their district heating systems? &#8211\; Session #01
DTSTART:20230517T110000
DTEND:20230517T123000
URL;VALUE=URI:https://energy-cities.eu/event/solar-heating-how-cities-can-decarbonise-their-district-heating-systems-session-01/
DTSTAMP:now
UID:65976d7215e1b
END:VEVENT
END:VCALENDAR