BEGIN:VCALENDAR
VERSION:2.0
PRODID:-//hacksw/handcal//NONSGML v1.0//EN
CALSCALE:GREGORIAN
BEGIN:VEVENT
LOCATION:
SUMMARY:Solar heating: how cities can decarbonise their district heating systems? &#8211\; Session #02
DESCRIPTION:Solar heating: how cities can decarbonise their district heating systems? &#8211\; Session #02
DTSTART:20230605T110000
DTEND:20230605T123000
URL;VALUE=URI:https://energy-cities.eu/event/solar-heating-how-cities-can-decarbonise-their-district-heating-systems-session-02/
DTSTAMP:now
UID:659768c054182
END:VEVENT
END:VCALENDAR