BEGIN:VCALENDAR
VERSION:2.0
PRODID:-//hacksw/handcal//NONSGML v1.0//EN
CALSCALE:GREGORIAN
BEGIN:VEVENT
LOCATION:
SUMMARY:Sommet virtuel du Climat
DESCRIPTION:Sommet virtuel du Climat
DTSTART:20211122T000000
DTEND:20211203T000000
URL;VALUE=URI:https://energy-cities.eu/fr/evenement/sommet-virtuel-du-climat/
DTSTAMP:now
UID:65976be5184f7
END:VEVENT
END:VCALENDAR