BEGIN:VCALENDAR
VERSION:2.0
PRODID:-//hacksw/handcal//NONSGML v1.0//EN
CALSCALE:GREGORIAN
BEGIN:VEVENT
LOCATION:
SUMMARY:Sommet virtuel du climat &#8211\; 1ère édition
DESCRIPTION:Sommet virtuel du climat &#8211\; 1ère édition
DTSTART:20191118T000000
DTEND:20191128T000000
URL;VALUE=URI:https://energy-cities.eu/fr/evenement/sommet-virtuel-du-climat-1ere-edition/
DTSTAMP:now
UID:6597705b25008
END:VEVENT
END:VCALENDAR