BEGIN:VCALENDAR
VERSION:2.0
PRODID:-//hacksw/handcal//NONSGML v1.0//EN
CALSCALE:GREGORIAN
BEGIN:VEVENT
LOCATION:
SUMMARY:Sonderborg Climate Neutrality Conference 2021
DESCRIPTION:Sonderborg Climate Neutrality Conference 2021
DTSTART:20210928T000000
DTEND:20210929T000000
URL;VALUE=URI:https://energy-cities.eu/event/sonderborg-climate-neutrality-conference-2021/
DTSTAMP:now
UID:65976c3392ed7
END:VEVENT
END:VCALENDAR