BEGIN:VCALENDAR
VERSION:2.0
PRODID:-//hacksw/handcal//NONSGML v1.0//EN
CALSCALE:GREGORIAN
BEGIN:VEVENT
LOCATION:
SUMMARY:Spatial Planning: Which Heat Supply Technologies For Which District?
DESCRIPTION:Spatial Planning: Which Heat Supply Technologies For Which District?
DTSTART:20210625T100000
DTEND:20210625T120000
URL;VALUE=URI:https://energy-cities.eu/event/data-management-best-practices-and-challenges-for-heat-planning/
DTSTAMP:now
UID:659776e182e22
END:VEVENT
END:VCALENDAR