BEGIN:VCALENDAR
VERSION:2.0
PRODID:-//hacksw/handcal//NONSGML v1.0//EN
CALSCALE:GREGORIAN
BEGIN:VEVENT
LOCATION:
SUMMARY:Strategic Energy Planning in Urban Districts from a Policy Perspective
DESCRIPTION:Strategic Energy Planning in Urban Districts from a Policy Perspective
DTSTART:20200908T140000
DTEND:20200908T153000
URL;VALUE=URI:https://energy-cities.eu/event/strategic-energy-planning-in-urban-districts-from-a-policy-perspective/
DTSTAMP:now
UID:65976a12a0291
END:VEVENT
END:VCALENDAR