BEGIN:VCALENDAR
VERSION:2.0
PRODID:-//hacksw/handcal//NONSGML v1.0//EN
CALSCALE:GREGORIAN
BEGIN:VEVENT
LOCATION:
SUMMARY:Study tour in Culemborg
DESCRIPTION:Study tour in Culemborg
DTSTART:20230421T100000
DTEND:20230421T150000
URL;VALUE=URI:https://energy-cities.eu/event/study-tour-in-culemborg/
DTSTAMP:now
UID:659775f58cf24
END:VEVENT
END:VCALENDAR