BEGIN:VCALENDAR
VERSION:2.0
PRODID:-//hacksw/handcal//NONSGML v1.0//EN
CALSCALE:GREGORIAN
BEGIN:VEVENT
LOCATION:
SUMMARY:Suivre et évaluer les actions d&rsquo\;adaptation aux changements climatiques
DESCRIPTION:Suivre et évaluer les actions d&rsquo\;adaptation aux changements climatiques
DTSTART:20191126T110000
DTEND:20191126T003000
URL;VALUE=URI:https://energy-cities.eu/fr/evenement/suivre-et-evaluer-les-actions-dadaptation-aux-changements-climatiques/
DTSTAMP:now
UID:659766911d40b
END:VEVENT
END:VCALENDAR