BEGIN:VCALENDAR
VERSION:2.0
PRODID:-//hacksw/handcal//NONSGML v1.0//EN
CALSCALE:GREGORIAN
BEGIN:VEVENT
LOCATION:
SUMMARY:Sustainable energy investment in Member State recovery plans &#8211\; part
DESCRIPTION:Sustainable energy investment in Member State recovery plans &#8211\; part
DTSTART:20200616T103000
DTEND:20200616T120000
URL;VALUE=URI:https://energy-cities.eu/event/sustainable-energy-investment-in-member-state-recovery-plans-part/
DTSTAMP:now
UID:65976cda89075
END:VEVENT
END:VCALENDAR