BEGIN:VCALENDAR
VERSION:2.0
PRODID:-//hacksw/handcal//NONSGML v1.0//EN
CALSCALE:GREGORIAN
BEGIN:VEVENT
LOCATION:
SUMMARY:Sustainable energy investment in Member State recovery plans &#8211\; part II
DESCRIPTION:Sustainable energy investment in Member State recovery plans &#8211\; part II
DTSTART:20200630T103000
DTEND:20200630T000000
URL;VALUE=URI:https://energy-cities.eu/event/sustainable-energy-investment-in-member-state-recovery-plans-part-ii/
DTSTAMP:now
UID:6597765876264
END:VEVENT
END:VCALENDAR