BEGIN:VCALENDAR
VERSION:2.0
PRODID:-//hacksw/handcal//NONSGML v1.0//EN
CALSCALE:GREGORIAN
BEGIN:VEVENT
LOCATION:
SUMMARY:Sustainable mobility in cities &#8211\; European Dialogue for Sustainable Cities
DESCRIPTION:Sustainable mobility in cities &#8211\; European Dialogue for Sustainable Cities
DTSTART:20210203T020000
DTEND:20210203T033000
URL;VALUE=URI:https://energy-cities.eu/event/sustainable-mobility-in-cities-european-dialogue-for-sustainable-cities/
DTSTAMP:now
UID:65976ad1b6de6
END:VEVENT
END:VCALENDAR