BEGIN:VCALENDAR
VERSION:2.0
PRODID:-//hacksw/handcal//NONSGML v1.0//EN
CALSCALE:GREGORIAN
BEGIN:VEVENT
LOCATION:
SUMMARY:THE CREATIVE BUREAUCRACY FESTIVAL 2021
DESCRIPTION:THE CREATIVE BUREAUCRACY FESTIVAL 2021
DTSTART:20210913T000000
DTEND:20210917T000000
URL;VALUE=URI:https://energy-cities.eu/event/the-creative-bureaucracy-festival-2021/
DTSTAMP:now
UID:65976abc1442c
END:VEVENT
END:VCALENDAR