BEGIN:VCALENDAR
VERSION:2.0
PRODID:-//hacksw/handcal//NONSGML v1.0//EN
CALSCALE:GREGORIAN
BEGIN:VEVENT
LOCATION:
SUMMARY:TOMORROW&#8217\;s Energy Transition learning relay &#8211\; Kick off workshop
DESCRIPTION:TOMORROW&#8217\;s Energy Transition learning relay &#8211\; Kick off workshop
DTSTART:20201022T090000
DTEND:20201022T180000
URL;VALUE=URI:https://energy-cities.eu/event/tomorrows-energy-transition-learning-relay-kick-off-workshop/
DTSTAMP:now
UID:6597775c3616f
END:VEVENT
END:VCALENDAR