BEGIN:VCALENDAR
VERSION:2.0
PRODID:-//hacksw/handcal//NONSGML v1.0//EN
CALSCALE:GREGORIAN
BEGIN:VEVENT
LOCATION:
SUMMARY:TRANSITION WORKSHOP 2020: Roadmaps for resilient decarbonizing cities (online)
DESCRIPTION:TRANSITION WORKSHOP 2020: Roadmaps for resilient decarbonizing cities (online)
DTSTART:20200713T000000
DTEND:20200724T000000
URL;VALUE=URI:https://energy-cities.eu/event/transition-workshop-2020-roadmaps-for-resilient-decarbonizing-cities-online/
DTSTAMP:now
UID:65976cbde1355
END:VEVENT
END:VCALENDAR